BEGIN:VCALENDAR
VERSION:2.0
PRODID:-//Bourbon &amp; Branch - ECPv6.15.20//NONSGML v1.0//EN
CALSCALE:GREGORIAN
METHOD:PUBLISH
X-ORIGINAL-URL:https://bourbonandbranchphilly.com
X-WR-CALDESC:Events for Bourbon &amp; Branch
REFRESH-INTERVAL;VALUE=DURATION:PT1H
X-Robots-Tag:noindex
X-PUBLISHED-TTL:PT1H
BEGIN:VTIMEZONE
TZID:America/New_York
BEGIN:DAYLIGHT
TZOFFSETFROM:-0500
TZOFFSETTO:-0400
TZNAME:EDT
DTSTART:20250309T070000
END:DAYLIGHT
BEGIN:STANDARD
TZOFFSETFROM:-0400
TZOFFSETTO:-0500
TZNAME:EST
DTSTART:20251102T060000
END:STANDARD
BEGIN:DAYLIGHT
TZOFFSETFROM:-0500
TZOFFSETTO:-0400
TZNAME:EDT
DTSTART:20260308T070000
END:DAYLIGHT
BEGIN:STANDARD
TZOFFSETFROM:-0400
TZOFFSETTO:-0500
TZNAME:EST
DTSTART:20261101T060000
END:STANDARD
BEGIN:DAYLIGHT
TZOFFSETFROM:-0500
TZOFFSETTO:-0400
TZNAME:EDT
DTSTART:20270314T070000
END:DAYLIGHT
BEGIN:STANDARD
TZOFFSETFROM:-0400
TZOFFSETTO:-0500
TZNAME:EST
DTSTART:20271107T060000
END:STANDARD
END:VTIMEZONE
BEGIN:VEVENT
DTSTART;TZID=America/New_York:20260423T193000
DTEND;TZID=America/New_York:20260423T210000
DTSTAMP:20260423T112156
CREATED:20260308T221026Z
LAST-MODIFIED:20260308T221721Z
UID:10000554-1776972600-1776978000@bourbonandbranchphilly.com
SUMMARY:Jazz Night @ Bourbon & Branch!
DESCRIPTION:Bourbon & Branch hosts live jazz every Thursday evening and on First Fridays curated by Bill Saurman!  \n\n\n\n\n  \nEVERY THURSDAY\n7:30-9PM\n$10 suggested donation \n  \nMake a reservation upstairs here! \n  \nFollow PhillyJazzScene on Instagram!
URL:https://bourbonandbranchphilly.com/event/jazz-night-bourbon-branch/2026-04-23/
CATEGORIES:Jazz,Live Music
ATTACH;FMTTYPE=image/png:https://bourbonandbranchphilly.com/wp-content/uploads/2026/03/Jazz.Night_.png
END:VEVENT
BEGIN:VEVENT
DTSTART;TZID=America/New_York:20260426T170000
DTEND;TZID=America/New_York:20260426T200000
DTSTAMP:20260423T112156
CREATED:20260330T191504Z
LAST-MODIFIED:20260330T191504Z
UID:10001131-1777222800-1777233600@bourbonandbranchphilly.com
SUMMARY:Cassie's Craft Coven: Show & Tell
DESCRIPTION:Bring out your skills and share them with your Craft Coven Community! \n\n\n\n\nCome one come all\, to share or to enjoy! All are welcome (and encouraged!) to join as audience members\, crafters\, and curiosity seekers. Attendees are also welcome to come with something to show or tell\, to anyone who might be showing up to watch and listen. \n  \n\nSUNDAY\, APRIL 26TH\n5PM-8PM\nRSVP \n  \n\nThe specifics: \nEach person will be allowed no more than 10 minutes of stage time to present. Examples of what you could have for us: do a poetry reading\, play an acoustic guitar\, put your art on an easel and tell us your artist statement\, perform a comedy set\, recite a statement\, share your favorite recipe\, do a clown act\, and really so many more things would be great.
URL:https://bourbonandbranchphilly.com/event/cassies-craft-coven-show-tell/
ATTACH;FMTTYPE=image/jpeg:https://bourbonandbranchphilly.com/wp-content/uploads/2026/03/ShowandTellFlyerLetter.jpg
END:VEVENT
BEGIN:VEVENT
DTSTART;TZID=America/New_York:20260428T200000
DTEND;TZID=America/New_York:20260428T213000
DTSTAMP:20260423T112156
CREATED:20260308T223629Z
LAST-MODIFIED:20260308T223629Z
UID:10000876-1777406400-1777411800@bourbonandbranchphilly.com
SUMMARY:Quizzo: Every Tuesday at Bourbon & Branch
DESCRIPTION:Join Bourbon & Branch for Quizzo every Tuesday night! Winner gets a $50 cash prize! \n  \nEVERY TUESDAY\n8:00PM\nFREE ENTRY \n  \n  \n 
URL:https://bourbonandbranchphilly.com/event/quizzo-every-tuesday-at-bourbon-branch/2026-04-28/
CATEGORIES:quizzo
ATTACH;FMTTYPE=image/png:https://bourbonandbranchphilly.com/wp-content/uploads/2026/03/ChatGPT-Image-Mar-8-2026-06_32_17-PM.png
END:VEVENT
BEGIN:VEVENT
DTSTART;TZID=America/New_York:20260518T183000
DTEND;TZID=America/New_York:20260518T213000
DTSTAMP:20260423T112156
CREATED:20260109T123112Z
LAST-MODIFIED:20260308T223043Z
UID:10000811-1779129000-1779139800@bourbonandbranchphilly.com
SUMMARY:Millennials Munch
DESCRIPTION:Join Bourbon & Branch for Millennials Munch! Munches are social environments where guests from alternative lifestyles can come together and connect over their common interests. This munch provides the extra perk of helping people who grew up in similar eras of life connect over the extra common ground of their upbringings\, their inspirations\, and their current phases of life. \n  \nEVERY THIRD MONDAY OF THE MONTH\n6:30PM-9:30PM\nNOTAFLOF\n25+
URL:https://bourbonandbranchphilly.com/event/millennials-munch/2026-05-18/
CATEGORIES:Meetup
ATTACH;FMTTYPE=image/png:https://bourbonandbranchphilly.com/wp-content/uploads/2026/01/1.26.2026-Millennials-Munch-Social-Media-Square-Poster.png
END:VEVENT
END:VCALENDAR