BEGIN:VCALENDAR
VERSION:2.0
PRODID:-//Bourbon &amp; Branch - ECPv6.15.20//NONSGML v1.0//EN
CALSCALE:GREGORIAN
METHOD:PUBLISH
X-ORIGINAL-URL:https://bourbonandbranchphilly.com
X-WR-CALDESC:Events for Bourbon &amp; Branch
REFRESH-INTERVAL;VALUE=DURATION:PT1H
X-Robots-Tag:noindex
X-PUBLISHED-TTL:PT1H
BEGIN:VTIMEZONE
TZID:America/New_York
BEGIN:DAYLIGHT
TZOFFSETFROM:-0500
TZOFFSETTO:-0400
TZNAME:EDT
DTSTART:20240310T070000
END:DAYLIGHT
BEGIN:STANDARD
TZOFFSETFROM:-0400
TZOFFSETTO:-0500
TZNAME:EST
DTSTART:20241103T060000
END:STANDARD
BEGIN:DAYLIGHT
TZOFFSETFROM:-0500
TZOFFSETTO:-0400
TZNAME:EDT
DTSTART:20250309T070000
END:DAYLIGHT
BEGIN:STANDARD
TZOFFSETFROM:-0400
TZOFFSETTO:-0500
TZNAME:EST
DTSTART:20251102T060000
END:STANDARD
BEGIN:DAYLIGHT
TZOFFSETFROM:-0500
TZOFFSETTO:-0400
TZNAME:EDT
DTSTART:20260308T070000
END:DAYLIGHT
BEGIN:STANDARD
TZOFFSETFROM:-0400
TZOFFSETTO:-0500
TZNAME:EST
DTSTART:20261101T060000
END:STANDARD
BEGIN:DAYLIGHT
TZOFFSETFROM:-0500
TZOFFSETTO:-0400
TZNAME:EDT
DTSTART:20270314T070000
END:DAYLIGHT
BEGIN:STANDARD
TZOFFSETFROM:-0400
TZOFFSETTO:-0500
TZNAME:EST
DTSTART:20271107T060000
END:STANDARD
END:VTIMEZONE
BEGIN:VEVENT
DTSTART;TZID=America/New_York:20260123T193000
DTEND;TZID=America/New_York:20260123T210000
DTSTAMP:20260423T144439
CREATED:20251211T193811Z
LAST-MODIFIED:20251211T193811Z
UID:10000533-1769196600-1769202000@bourbonandbranchphilly.com
SUMMARY:PhillyGrass: Live Bluegrass
DESCRIPTION:Join PhillyGrass for a LIVE performance at Bourbon & Branch! \n  \nFRIDAY\, JANUARY 23RD\n7:30-9PM\n$10 suggested donation \n  \nFollow Phillygrass on Instagram!
URL:https://bourbonandbranchphilly.com/event/phillygrass-live-bluegrass/
CATEGORIES:Jazz,Jazz,Live Music
ATTACH;FMTTYPE=image/png:https://bourbonandbranchphilly.com/wp-content/uploads/2025/12/phillygrass.png
END:VEVENT
BEGIN:VEVENT
DTSTART;TZID=America/New_York:20260118T190000
DTEND;TZID=America/New_York:20260118T220000
DTSTAMP:20260423T144439
CREATED:20260113T173403Z
LAST-MODIFIED:20260113T173403Z
UID:10000540-1768762800-1768773600@bourbonandbranchphilly.com
SUMMARY:Synergy Showcase // January 2026
DESCRIPTION:Synergy Showcase is a high-energy drag and performance night celebrating queer artistry\, movement\, and collaboration. The evening features a dynamic lineup of drag performers from across the Philadelphia creative community. Audience votes for a top 2. Top 2 lip-sync for a cash prize ($50). This event is produced by Haus of Energy Events. \n  \nSUNDAY\, JANUARY 18TH\nDOORS @ 7:00PM + SHOW @ 7:30PM\nNO COVER \n  \nHost: Chakra \n 
URL:https://bourbonandbranchphilly.com/event/synergy-showcase-january-2026/
CATEGORIES:Drag
ATTACH;FMTTYPE=image/jpeg:https://bourbonandbranchphilly.com/wp-content/uploads/2026/01/chakradrag_1768002368_3806602221966963842_62793718108.jpg
END:VEVENT
BEGIN:VEVENT
DTSTART;TZID=America/New_York:20260116T190000
DTEND;TZID=America/New_York:20260116T210000
DTSTAMP:20260423T144439
CREATED:20251211T214843Z
LAST-MODIFIED:20260106T194129Z
UID:10000535-1768590000-1768597200@bourbonandbranchphilly.com
SUMMARY:Beaucoup Blue: LIVE
DESCRIPTION:Join Bourbon & Branch for a LIVE performance from Beaucoup Blue! \n  \nFRIDAY\, JANUARY 16TH\n7-9PM\n$10 suggested donation \n  \n 
URL:https://bourbonandbranchphilly.com/event/beaucoup-blue-live/
CATEGORIES:Acoustic,Live Music
ATTACH;FMTTYPE=image/png:https://bourbonandbranchphilly.com/wp-content/uploads/2025/12/BB-Live-Music-2.png
END:VEVENT
BEGIN:VEVENT
DTSTART;TZID=America/New_York:20260109T190000
DTEND;TZID=America/New_York:20260109T210000
DTSTAMP:20260423T144439
CREATED:20251211T195025Z
LAST-MODIFIED:20251211T195025Z
UID:10000534-1767985200-1767992400@bourbonandbranchphilly.com
SUMMARY:James Gilmore: LIVE
DESCRIPTION:Join James Gilmore for a LIVE performance at Bourbon & Branch! \n  \nFRIDAY\, JANUARY 9TH\n7-9PM\n$10 suggested donation \n  \n 
URL:https://bourbonandbranchphilly.com/event/james-gilmore-live/
CATEGORIES:Acoustic,Live Music
ATTACH;FMTTYPE=image/png:https://bourbonandbranchphilly.com/wp-content/uploads/2025/12/BB-Live-Music.png
END:VEVENT
BEGIN:VEVENT
DTSTART;TZID=America/New_York:20251231T200000
DTEND;TZID=America/New_York:20260101T020000
DTSTAMP:20260423T144439
CREATED:20251216T215806Z
LAST-MODIFIED:20251216T215948Z
UID:10000537-1767211200-1767232800@bourbonandbranchphilly.com
SUMMARY:NO COVER NYE @ B&B!
DESCRIPTION:The ultimate New Year’s Eve experience minus the expensive cover charge. Get ready for 3 events in 1 unforgettable night!\n\n\n\n🎉 No Cover New Year’s Eve Comedy Karaoke Bash 🎉\n\nWEDNESDAY\, DECEMBER 31ST\n8PM-2AM\nRSVP: EVENTBRITE\n21 & Older | FREE Event \n  \n🥂 Complimentary Champagne Toast & Party Favors at Midnight\n🍽 Outstanding Food Menu — appetizers\, entrées\, desserts & VEGAN options available\n🎉 A perfect option for anyone who wants a fun\, full New Year’s Eve experience without the overpriced door fees \n  \n😂 8:00PM – The Comedy Jawn\n🎤 9:30PM – The Karaoke Jawn\n🕺🏽 After Midnight – The Party Starts
URL:https://bourbonandbranchphilly.com/event/no-cover-nye-bb/
CATEGORIES:Comedy,Karaoke
ATTACH;FMTTYPE=image/png:https://bourbonandbranchphilly.com/wp-content/uploads/2025/12/5003553926210440674.png
END:VEVENT
BEGIN:VEVENT
DTSTART;TZID=America/New_York:20251228T193000
DTEND;TZID=America/New_York:20251228T210000
DTSTAMP:20260423T144439
CREATED:20251211T183855Z
LAST-MODIFIED:20251211T183855Z
UID:10000531-1766950200-1766955600@bourbonandbranchphilly.com
SUMMARY:Synergy Showcase // December 2025
DESCRIPTION:Synergy Showcase is a high-energy\, holiday-themed drag and performance night celebrating queer artistry\, movement\, and collaboration. The evening features a dynamic lineup of drag performers from across the Philadelphia creative community. Audience votes for a top 2. Top 2 lip-sync for a cash prize ($50). Produced by Haus of Energy Events! \n  \nSUNDAY\, DECEMBER 28TH\nDOORS @ 7:00PM + SHOW @ 7:30PM\nNO COVER \n  \nHost: Chakra \nCohost: Dan!
URL:https://bourbonandbranchphilly.com/event/synergy-showcase-december-2025/
CATEGORIES:Drag
ATTACH;FMTTYPE=image/jpeg:https://bourbonandbranchphilly.com/wp-content/uploads/2025/12/chakradrag_1764694658_3778855145699138068_62793718108.jpg
END:VEVENT
BEGIN:VEVENT
DTSTART;TZID=America/New_York:20251222T190000
DTEND;TZID=America/New_York:20251222T210000
DTSTAMP:20260423T144439
CREATED:20251202T170936Z
LAST-MODIFIED:20251202T170936Z
UID:10000530-1766430000-1766437200@bourbonandbranchphilly.com
SUMMARY:LIVE READING: Ted McLoof
DESCRIPTION:Join us for the launch of Empty Calories and Male Curiosity: Stories by Ted McLoof\, a sharp\, funny\, and heartfelt collection from one of contemporary fiction’s most compelling new voices. \n  \nMONDAY\, DECEMBER 22ND\nDOORS @ 7:00PM + READING @ 7:30PM\nNO COVER \n  \n 
URL:https://bourbonandbranchphilly.com/event/live-reading-ted-mcloof/
CATEGORIES:literary event
ATTACH;FMTTYPE=image/jpeg:https://bourbonandbranchphilly.com/wp-content/uploads/2025/12/LIVE-READING-1.jpeg
END:VEVENT
BEGIN:VEVENT
DTSTART;TZID=America/New_York:20251221T170000
DTEND;TZID=America/New_York:20251221T233000
DTSTAMP:20260423T144439
CREATED:20251216T213057Z
LAST-MODIFIED:20251216T215054Z
UID:10000536-1766336400-1766359800@bourbonandbranchphilly.com
SUMMARY:Wrapped N’ Words + Holiday Creative Social
DESCRIPTION:Join The Twilight Crew for a creative workshop and open mic designed for writers\, musicians\, comedians\, and anyone looking to express themselves. Participants will create poems\, songs\, and jokes in a supportive\, collaborative environment\, followed by a networking session to meet other creatives. No experience is required. This event is beginner-friendly and open to all levels – from first-timers to seasoned performers. \nThe workshop includes guided prompts and creative exercises that help you craft a poem\, song\, or joke. You’ll have time to write\, receive feedback if you want it\, and prepare for the open mic. \n  \n \n  \nAfterwards\, stay for the Holiday Creative Social! This is festive end-of-year gathering for creatives to connect\, unwind\, and celebrate together. This event is focused on fun\, community\, and vibes – featuring karaoke\, games\, music\, and intentional socializing in a relaxed setting. \n  \n\nSUNDAY\, DECEMBER 21ST\nWrapped N’ Words: 5PM-8PM\nHoliday Creative Social: 8PM-12AM\nTICKETS
URL:https://bourbonandbranchphilly.com/event/wrapped-n-words-holiday-creative-social/
CATEGORIES:literary event,Meetup
ATTACH;FMTTYPE=image/png:https://bourbonandbranchphilly.com/wp-content/uploads/2025/12/Black-and-Red-Modern-Brutalist-Giveaway-Music-Concert-Ticket-Contest-Instagram-Post-3.png
END:VEVENT
BEGIN:VEVENT
DTSTART;TZID=America/New_York:20251221T120000
DTEND;TZID=America/New_York:20251221T150000
DTSTAMP:20260423T144439
CREATED:20251211T184750Z
LAST-MODIFIED:20251211T184906Z
UID:10000532-1766318400-1766329200@bourbonandbranchphilly.com
SUMMARY:Juicy Froot Presents: Christmas Burlesque
DESCRIPTION:Get ready for a festive feast and cheeky fun at the Christmas Burlesque Brunch with Juicy Froot!\n\n\n\nJoin us in person for a festive and fabulous brunch experience like no other. Expect sparkling performances\, games\, Christmas Sweater Contest\, delicious vibes\, and a whole lot of holiday cheer with the one and only Juicy Froot. \nBring your friends\, WEAR YOUR BEST CHRISTMAS SWEATER\, and let’s make this Christmas BURLESQUE brunch unforgettable! \n  \n\nSUNDAY\, DECEMBER 21ST\nDOORS @ 12:00PM + SHOW @ 1:00PM\nTICKETS: EVENTBRITE \n\n 
URL:https://bourbonandbranchphilly.com/event/juicy-froot-presents-christmas-burlesque/
CATEGORIES:Brunch,Drag
ATTACH;FMTTYPE=image/jpeg:https://bourbonandbranchphilly.com/wp-content/uploads/2025/12/juicyfrootburlesque_1765469307_3785353365031878137_53282734542.jpg
END:VEVENT
BEGIN:VEVENT
DTSTART;TZID=America/New_York:20251203T190000
DTEND;TZID=America/New_York:20251203T210000
DTSTAMP:20260423T144439
CREATED:20251123T231136Z
LAST-MODIFIED:20251124T193937Z
UID:10000529-1764788400-1764795600@bourbonandbranchphilly.com
SUMMARY:HOW ARE YOU STILL SINGLE? A night for women to get together and chat.
DESCRIPTION:Join Free Dating Advice at Bourbon & Branch for a night of connection and conversation with other women who get it. We’ll have some fun and games while everyone settles in\, then we’ll open up the floor for an IRL group chat. If everyone sucks but you\, come. \n  \nWEDNESDAY\, DECEMBER 3RD\n7-9PM\nRSVP HERE \nWe value inclusivity: If you identify as a woman\, you’re welcome to join. \nSpots are limited so everyone can be comfy – Please RSVP at the link above! \n  \n 
URL:https://bourbonandbranchphilly.com/event/how-are-you-still-single-a-night-for-women-to-get-together-and-chat/
CATEGORIES:Meetup
ATTACH;FMTTYPE=image/png:https://bourbonandbranchphilly.com/wp-content/uploads/2025/11/IG-carousel-.png
END:VEVENT
BEGIN:VEVENT
DTSTART;TZID=America/New_York:20251130T120000
DTEND;TZID=America/New_York:20251130T140000
DTSTAMP:20260423T144439
CREATED:20251123T224722Z
LAST-MODIFIED:20251123T224736Z
UID:10000528-1764504000-1764511200@bourbonandbranchphilly.com
SUMMARY:The Sabbath: Heavy Metal Drag Brunch
DESCRIPTION:Join Bourbon & Branch for their first ever Heavy Metal Drag Brunch hosted by LAMIA!\n\n\n\nTicket provides entry ONLY. Food and drink can be ordered at venue. \n\nSUNDAY\, NOVEMBER 30TH\n12:00-2:00PM\, 11AM Doors\nEVENTBRITE: $10 tickets \n  \n\nUpstairs at Bourbon & Branch\, 705 N. 2nd St. Seating begins at 11am\, and the show starts at 12pm SHARP.
URL:https://bourbonandbranchphilly.com/event/the-sabbath-heavy-metal-drag-brunch/
CATEGORIES:Drag
ATTACH;FMTTYPE=image/jpeg:https://bourbonandbranchphilly.com/wp-content/uploads/2025/11/sabbathbb1125.jpg
END:VEVENT
BEGIN:VEVENT
DTSTART;TZID=America/New_York:20251121T193000
DTEND;TZID=America/New_York:20251121T210000
DTSTAMP:20260423T144439
CREATED:20251112T020913Z
LAST-MODIFIED:20251112T021029Z
UID:10000527-1763753400-1763758800@bourbonandbranchphilly.com
SUMMARY:PhillyGrass
DESCRIPTION:Join PhillyGrass for a LIVE performance at Bourbon & Branch! \n  \nFRIDAY\, NOVEMBER 21ST\n7:30-9PM\n$10 suggested donation \nFollow Phillygrass on Instagram! \n 
URL:https://bourbonandbranchphilly.com/event/phillygrass/
CATEGORIES:Live Music
ATTACH;FMTTYPE=image/jpeg:https://bourbonandbranchphilly.com/wp-content/uploads/2025/11/phillybluegrass_1758980768_3730923560220316924_1962020803-1.jpg
END:VEVENT
BEGIN:VEVENT
DTSTART;TZID=America/New_York:20251114T210000
DTEND;TZID=America/New_York:20251114T230000
DTSTAMP:20260423T144439
CREATED:20251112T015646Z
LAST-MODIFIED:20251112T015646Z
UID:10000526-1763154000-1763161200@bourbonandbranchphilly.com
SUMMARY:SKIN TIGHT: A Cabaret Show
DESCRIPTION:SKIN TIGHT is a sex-positive\, body-positive variety show celebrating the art of sensuality\, self-expression\, and confidence. Consent is always mandatory\, and respect is the ultimate turn-on. \n  \nFRIDAY\, NOVEMBER 14TH\nDOORS @ 8:30PM + SHOW @ 9PM\nRSVP \n\n 
URL:https://bourbonandbranchphilly.com/event/skin-tight-a-cabaret-show/
ATTACH;FMTTYPE=image/jpeg:https://bourbonandbranchphilly.com/wp-content/uploads/2025/11/nightshadetheglow_1761425663_3751432820490363978_276543242.jpg
END:VEVENT
BEGIN:VEVENT
DTSTART;TZID=America/New_York:20251113T190000
DTEND;TZID=America/New_York:20251113T213000
DTSTAMP:20260423T144439
CREATED:20251112T011927Z
LAST-MODIFIED:20251112T011927Z
UID:10000525-1763060400-1763069400@bourbonandbranchphilly.com
SUMMARY:Jazz Night
DESCRIPTION:Join us every Thursday Night for jazz! In our warm\, cozy Whiskey Room\, we have dinner\, cocktails\, and live jazz—this week featuring the return of trumpeter Levi Rozek and his quintet! \nTHURSDAY\, NOVEMBER 13TH\n6pm—Cocktail Hour\n7pm-9:30pm \nFree Entry!
URL:https://bourbonandbranchphilly.com/event/jazz-night/
CATEGORIES:Jazz
ATTACH;FMTTYPE=image/jpeg:https://bourbonandbranchphilly.com/wp-content/uploads/2025/11/imjustabill_1762805920_3763011256744645287_55643938151.jpg
END:VEVENT
BEGIN:VEVENT
DTSTART;TZID=America/New_York:20251112T180000
DTEND;TZID=America/New_York:20251112T210000
DTSTAMP:20260423T144439
CREATED:20251112T011327Z
LAST-MODIFIED:20251112T011327Z
UID:10000524-1762970400-1762981200@bourbonandbranchphilly.com
SUMMARY:Philly Photo Babes Meetup
DESCRIPTION:Join the Philly Photo Babes for a meet up to talk all things concert photography! \n  \nWEDNESDAY\, NOVEMBER 12TH\n6-9PM \n  \n 
URL:https://bourbonandbranchphilly.com/event/philly-photo-babes-meetup/
ATTACH;FMTTYPE=image/jpeg:https://bourbonandbranchphilly.com/wp-content/uploads/2025/11/Cream-Vintage-Dinner-Party-Invitation.jpg.jpg
END:VEVENT
END:VCALENDAR